BEGIN:VCALENDAR
VERSION:2.0
PRODID:-//Redstone Audio Productions - ECPv6.15.20//NONSGML v1.0//EN
CALSCALE:GREGORIAN
METHOD:PUBLISH
X-WR-CALNAME:Redstone Audio Productions
X-ORIGINAL-URL:https://redstoneaudio.com
X-WR-CALDESC:Events for Redstone Audio Productions
REFRESH-INTERVAL;VALUE=DURATION:PT1H
X-Robots-Tag:noindex
X-PUBLISHED-TTL:PT1H
BEGIN:VTIMEZONE
TZID:America/Denver
BEGIN:DAYLIGHT
TZOFFSETFROM:-0700
TZOFFSETTO:-0600
TZNAME:MDT
DTSTART:20200308T090000
END:DAYLIGHT
BEGIN:STANDARD
TZOFFSETFROM:-0600
TZOFFSETTO:-0700
TZNAME:MST
DTSTART:20201101T080000
END:STANDARD
BEGIN:DAYLIGHT
TZOFFSETFROM:-0700
TZOFFSETTO:-0600
TZNAME:MDT
DTSTART:20210314T090000
END:DAYLIGHT
BEGIN:STANDARD
TZOFFSETFROM:-0600
TZOFFSETTO:-0700
TZNAME:MST
DTSTART:20211107T080000
END:STANDARD
BEGIN:DAYLIGHT
TZOFFSETFROM:-0700
TZOFFSETTO:-0600
TZNAME:MDT
DTSTART:20220313T090000
END:DAYLIGHT
BEGIN:STANDARD
TZOFFSETFROM:-0600
TZOFFSETTO:-0700
TZNAME:MST
DTSTART:20221106T080000
END:STANDARD
BEGIN:DAYLIGHT
TZOFFSETFROM:-0700
TZOFFSETTO:-0600
TZNAME:MDT
DTSTART:20230312T090000
END:DAYLIGHT
BEGIN:STANDARD
TZOFFSETFROM:-0600
TZOFFSETTO:-0700
TZNAME:MST
DTSTART:20231105T080000
END:STANDARD
BEGIN:DAYLIGHT
TZOFFSETFROM:-0700
TZOFFSETTO:-0600
TZNAME:MDT
DTSTART:20240310T090000
END:DAYLIGHT
BEGIN:STANDARD
TZOFFSETFROM:-0600
TZOFFSETTO:-0700
TZNAME:MST
DTSTART:20241103T080000
END:STANDARD
BEGIN:DAYLIGHT
TZOFFSETFROM:-0700
TZOFFSETTO:-0600
TZNAME:MDT
DTSTART:20250309T090000
END:DAYLIGHT
BEGIN:STANDARD
TZOFFSETFROM:-0600
TZOFFSETTO:-0700
TZNAME:MST
DTSTART:20251102T080000
END:STANDARD
BEGIN:DAYLIGHT
TZOFFSETFROM:-0700
TZOFFSETTO:-0600
TZNAME:MDT
DTSTART:20260308T090000
END:DAYLIGHT
BEGIN:STANDARD
TZOFFSETFROM:-0600
TZOFFSETTO:-0700
TZNAME:MST
DTSTART:20261101T080000
END:STANDARD
END:VTIMEZONE
BEGIN:VEVENT
DTSTART;TZID=America/Denver:20250619T190000
DTEND;TZID=America/Denver:20250619T210000
DTSTAMP:20260419T164932
CREATED:20250609T172130Z
LAST-MODIFIED:20250609T172130Z
UID:10000022-1750359600-1750366800@redstoneaudio.com
SUMMARY:BeeZr's
DESCRIPTION:Nossa Samba will be performing at BeeZr’s Thursday\, June 19th from 7:00pm-9:00pm
URL:https://redstoneaudio.com/event/beezrs/
LOCATION:109 Northside Square\, 109 Northside Square\, Huntsville\, AL\, 35801\, United States
CATEGORIES:Nossa Samba
END:VEVENT
BEGIN:VEVENT
DTSTART;TZID=America/Denver:20250516T190000
DTEND;TZID=America/Denver:20250516T220000
DTSTAMP:20260419T164932
CREATED:20250531T061723Z
LAST-MODIFIED:20250531T061723Z
UID:10000002-1747422000-1747432800@redstoneaudio.com
SUMMARY:The Open Bottle
DESCRIPTION:Stanley Dan and the Soul Jazzers will perform at The Open Bottle patio bar in Madison\, AL. Free admission. This fabulous “party in the back” venue is located on Hwy 72 west past the car dealerships and before Slaughter Road (driving west). The building is next to Bojangles and shares its parking area. See you there!
URL:https://redstoneaudio.com/event/the-open-bottle/
LOCATION:7061 Highway 72 West\, 7061 Highway 72 West\, Huntsville\, AL\, 35806\, United States
CATEGORIES:Stanley Dan
END:VEVENT
BEGIN:VEVENT
DTSTART;TZID=America/Denver:20241026T183000
DTEND;TZID=America/Denver:20241026T220000
DTSTAMP:20260419T164932
CREATED:20250531T061909Z
LAST-MODIFIED:20250531T062827Z
UID:10000003-1729967400-1729980000@redstoneaudio.com
SUMMARY:Courthouse Square\, Downtown Huntsville
DESCRIPTION:A Saturday night concert weather permitting. Free admission. The outdoor stage will be in front of the courthouse facing BeeZr and other Northside Square merchants offering patio seating\, al fresco dining\, and beverage service on a first come\, first served basis. Soul Jazzers will follow Stanley Dan to keep the groove going www.souljazzers.com The street will be closed to traffic for the duration\, so we expect dancing in the street!
URL:https://redstoneaudio.com/event/courthouse-square-downtown-huntsville/
LOCATION:109 Northside Square\, 109 Northside Square\, Huntsville\, AL\, 35801\, United States
CATEGORIES:Stanley Dan
END:VEVENT
BEGIN:VEVENT
DTSTART;TZID=America/Denver:20240718T190000
DTEND;TZID=America/Denver:20240718T220000
DTSTAMP:20260419T164932
CREATED:20250531T063024Z
LAST-MODIFIED:20250531T063210Z
UID:10000004-1721329200-1721340000@redstoneaudio.com
SUMMARY:Stovehouse Electric Belle
DESCRIPTION:Stanley Dan will play at the Belle under the name Soul Jazzers. In addition to your favorite Steely Dan songs\, you will be treated to a variety of old and new school soul music featuring both Sharla and Daniel on lead vocals.  More info about Soul Jazzers repertoire can be found at www.souljazzers.com
URL:https://redstoneaudio.com/event/stovehouse-electric-belle/
LOCATION:3414 Governors Drive\, 3414 Governors Drive\, Huntsville\, AL\, 35805\, United States
CATEGORIES:Stanley Dan
END:VEVENT
BEGIN:VEVENT
DTSTART;TZID=America/Denver:20240518T190000
DTEND;TZID=America/Denver:20240518T213000
DTSTAMP:20260419T164932
CREATED:20250531T063327Z
LAST-MODIFIED:20250531T063327Z
UID:10000005-1716058800-1716067800@redstoneaudio.com
SUMMARY:Courthouse Square\, Downtown Huntsville
DESCRIPTION:A Saturday night concert during the best time of year (weather permitting). Free admission. The stage will be in front of the courthouse facing BeeZr and other Northside Square merchants offering outside seating\, al fresco dining\, and beverage service on a first come\, first served basis. The street will be closed to traffic for the duration\, so we expect dancing in the street!
URL:https://redstoneaudio.com/event/courthouse-square-downtown-huntsville-2/
LOCATION:109 Northside Square\, 109 Northside Square\, Huntsville\, AL\, 35801\, United States
CATEGORIES:Stanley Dan
END:VEVENT
BEGIN:VEVENT
DTSTART;TZID=America/Denver:20240328T190000
DTEND;TZID=America/Denver:20240328T220000
DTSTAMP:20260419T164932
CREATED:20250531T063517Z
LAST-MODIFIED:20250531T063517Z
UID:10000006-1711652400-1711663200@redstoneaudio.com
SUMMARY:Stovehouse Electric Belle
DESCRIPTION:A Thursday night show of nothing but Steely Dan songs!  We will cover Donald Fagan and Michael Becker compositions from their first 1972 album\, Can’t Buy a Thrill up to and including Two Against Nature (February 2000).  Time won’t permit us to play everything Fagan and Becker wrote in the span of 30 years\, but if you are a long-time Steely Dan fan you will be reeling in the years at this tribute concert\, pun intended.  $10 admission. Doors open at 6 pm.
URL:https://redstoneaudio.com/event/stovehouse-electric-belle-2/
LOCATION:3414 Governors Drive\, 3414 Governors Drive\, Huntsville\, AL\, 35805\, United States
CATEGORIES:Stanley Dan
END:VEVENT
BEGIN:VEVENT
DTSTART;TZID=America/Denver:20230915T190000
DTEND;TZID=America/Denver:20230915T220000
DTSTAMP:20260419T164932
CREATED:20250531T065447Z
LAST-MODIFIED:20250531T065447Z
UID:10000018-1694804400-1694815200@redstoneaudio.com
SUMMARY:Elks Lodge
DESCRIPTION:Get down at the Elks Lodge! This Friday night event will be open to the public\, 21 years and over. Good food\, full bar\, great music. Cover charge TBD. Check back for more details.
URL:https://redstoneaudio.com/event/elks-lodge/
LOCATION:725 Franklin Street\, 725 Franklin Street\, Huntsville\, AL\, 35801\, United States
CATEGORIES:Stanley Dan
END:VEVENT
BEGIN:VEVENT
DTSTART;TZID=America/Denver:20230915T190000
DTEND;TZID=America/Denver:20230915T220000
DTSTAMP:20260419T164932
CREATED:20250531T063644Z
LAST-MODIFIED:20250531T063644Z
UID:10000007-1694804400-1694815200@redstoneaudio.com
SUMMARY:Elks Lodge Huntsville
DESCRIPTION:Party like an Elk!  This September Friday night show is open to the public\, 21 years and wiser.  A tasty food menu\, two full bars\, friendly Elk\, and of course\, great music!  Doors open at 6 pm.  Come early and stay late.  $15 admission collected at the door.
URL:https://redstoneaudio.com/event/elks-lodge-huntsville/
LOCATION:725 Franklin Street\, 725 Franklin Street\, Huntsville\, AL\, 35801\, United States
CATEGORIES:Stanley Dan
END:VEVENT
BEGIN:VEVENT
DTSTART;TZID=America/Denver:20230721T190000
DTEND;TZID=America/Denver:20230721T220000
DTSTAMP:20260419T164932
CREATED:20250531T063749Z
LAST-MODIFIED:20250531T063903Z
UID:10000008-1689966000-1689976800@redstoneaudio.com
SUMMARY:Stovehouse Electric Belle
DESCRIPTION:It’s Official\, round two at The Electric Belle!  Friday night show. In addition to Steely Dan covers\, we will play music by Tower of Power\, Crusaders\, Chaka Kahn\, Amy Winehouse\, Al Green\, and others. $10 cover. Doors open at 6pm
URL:https://redstoneaudio.com/event/stovehouse-electric-belle-3/
LOCATION:3414 Governors Drive\, 3414 Governors Drive\, Huntsville\, AL\, 35805\, United States
CATEGORIES:Stanley Dan
END:VEVENT
BEGIN:VEVENT
DTSTART;TZID=America/Denver:20230518T190000
DTEND;TZID=America/Denver:20230518T220000
DTSTAMP:20260419T164932
CREATED:20250531T063846Z
LAST-MODIFIED:20250531T063920Z
UID:10000009-1684436400-1684447200@redstoneaudio.com
SUMMARY:Stovehouse Electric Belle
DESCRIPTION:Thursday night show. In addition to Steely Dan covers\, we will play music by Tower of Power\, Chaka Kahn\, Amy Winehouse\, Bill Withers\, Al Green\, and Ray Charles. $10 cover; 3 hours– don’t miss!
URL:https://redstoneaudio.com/event/stovehouse-electric-belle-4/
LOCATION:3414 Governors Drive\, 3414 Governors Drive\, Huntsville\, AL\, 35805\, United States
CATEGORIES:Stanley Dan
END:VEVENT
BEGIN:VEVENT
DTSTART;TZID=America/Denver:20230304T190000
DTEND;TZID=America/Denver:20230304T213000
DTSTAMP:20260419T164932
CREATED:20250531T064145Z
LAST-MODIFIED:20250531T064145Z
UID:10000010-1677956400-1677965400@redstoneaudio.com
SUMMARY:Lowe Mill Studio Theatre
DESCRIPTION:Stanley Dan will follow Nossa Samba in a combined concert Saturday March 4. $20 admission for both shows collected at the door –cash or card. Nossa Samba will perform the classic 1960’s bossa nova in addition to featuring the music of contemporary Brazilian jazz artists. Then stay for the next great show of Steely Dan covers and more. The venue allows B.Y.O.B. alcoholic beverages for ages 21 and over.
URL:https://redstoneaudio.com/event/lowe-mill-studio-theatre/
LOCATION:2211 Seminole Drive\, 2211 Seminole Drive\, Huntsville\, AL\, 35805\, United States
CATEGORIES:Stanley Dan
END:VEVENT
BEGIN:VEVENT
DTSTART;TZID=America/Denver:20221029T150000
DTEND;TZID=America/Denver:20221029T170000
DTSTAMP:20260419T164932
CREATED:20250531T064307Z
LAST-MODIFIED:20250531T064307Z
UID:10000011-1667055600-1667062800@redstoneaudio.com
SUMMARY:Voodoo BeeZr Fest
DESCRIPTION:Performing outdoors on the courthouse square next to BeeZr. Al fresco dining and beverage service provided. Enjoy a full afternoon of great music starting with our sister band\, Nossa Samba\, at 12 noon.
URL:https://redstoneaudio.com/event/voodoo-beezr-fest/
LOCATION:109 Northside Square\, 109 Northside Square\, Huntsville\, AL\, 35801\, United States
CATEGORIES:Stanley Dan
END:VEVENT
BEGIN:VEVENT
DTSTART;TZID=America/Denver:20221028T180000
DTEND;TZID=America/Denver:20221028T200000
DTSTAMP:20260419T164932
CREATED:20250531T064606Z
LAST-MODIFIED:20250531T064606Z
UID:10000013-1666980000-1666987200@redstoneaudio.com
SUMMARY:Northside Square
DESCRIPTION:Stanley Dan will perform weather permitting at the annual VoodoobeeZrfest. North Side Square will be closed to vehicle traffic from 5pm to 9pm. The stage will be on the courthouse side of the street facing BeeZr Brewery. Sidewalk tables/seating provided as well as food and beverage service. Free admission. Don’t miss Huntsville’s best street party event of the year.
URL:https://redstoneaudio.com/event/northside-square/
LOCATION:109 Northside Square\, 109 Northside Square\, Huntsville\, AL\, 35801\, United States
CATEGORIES:Stanley Dan
END:VEVENT
BEGIN:VEVENT
DTSTART;TZID=America/Denver:20221016T170000
DTEND;TZID=America/Denver:20221016T180000
DTSTAMP:20260419T164932
CREATED:20250531T064454Z
LAST-MODIFIED:20250531T064454Z
UID:10000012-1665939600-1665943200@redstoneaudio.com
SUMMARY:Stove House
DESCRIPTION:Stanley Dan will perform during Microwave Dave Day at Stove House. Free admission. More info at: https://www.stovehouse.com/event/microwave-dave-day-at-stovehouse/
URL:https://redstoneaudio.com/event/stove-house/
LOCATION:3414 Governors Drive\, 3414 Governors Drive\, Huntsville\, AL\, 35805\, United States
CATEGORIES:Stanley Dan
END:VEVENT
BEGIN:VEVENT
DTSTART;TZID=America/Denver:20220617T193000
DTEND;TZID=America/Denver:20220617T220000
DTSTAMP:20260419T164932
CREATED:20250531T064748Z
LAST-MODIFIED:20250531T064748Z
UID:10000014-1655494200-1655503200@redstoneaudio.com
SUMMARY:Theatre Huntsville at Lowe Mill
DESCRIPTION:Your $20 admission to the newly renovated Theatre Huntsville (previously the Flying Monkey) guarantees a wonderful time grooving to the music of Steely Dan. No advance tickets. Cash and credit/debit cards accepted at the door. BYOB–yes\, it’s allowed!
URL:https://redstoneaudio.com/event/theatre-huntsville-at-lowe-mill/
LOCATION:2211 Seminole Drive\, 2211 Seminole Drive\, Huntsville\, AL\, 35805\, United States
CATEGORIES:Stanley Dan
END:VEVENT
BEGIN:VEVENT
DTSTART;TZID=America/Denver:20220405T190000
DTEND;TZID=America/Denver:20220405T210000
DTSTAMP:20260419T164932
CREATED:20250531T064902Z
LAST-MODIFIED:20250531T064902Z
UID:10000015-1649185200-1649192400@redstoneaudio.com
SUMMARY:BeeZr Northside Square
DESCRIPTION:Stanley Dan is helping BeeZr create an intimate listening room space on its interior mezzanine that has a full-service bar. BeeZr has incorporated some lessons learned from our performance there back in February to improve seating so more people can enjoy the show. No cover charge. Please come support.
URL:https://redstoneaudio.com/event/beezr-northside-square/
LOCATION:109 Northside Square\, 109 Northside Square\, Huntsville\, AL\, 35801\, United States
CATEGORIES:Stanley Dan
END:VEVENT
BEGIN:VEVENT
DTSTART;TZID=America/Denver:20220226T183000
DTEND;TZID=America/Denver:20220226T223000
DTSTAMP:20260419T164932
CREATED:20250531T065029Z
LAST-MODIFIED:20250531T065029Z
UID:10000016-1645900200-1645914600@redstoneaudio.com
SUMMARY:BeeZr Northside Square
DESCRIPTION:Come celebrate a Carnival and Mardi Gras mash-up featuring Stanley Dan and Nossa Samba https://www.nossasamba.com \nThe first hour will be all bossa nova and samba followed by the best of Americana and Brasileiro until the party ends. Free admission. Don’t miss this! Music is performed inside BeeZr brewery.
URL:https://redstoneaudio.com/event/beezr-northside-square-2/
LOCATION:109 Northside Square\, 109 Northside Square\, Huntsville\, AL\, 35801\, United States
CATEGORIES:Stanley Dan
END:VEVENT
BEGIN:VEVENT
DTSTART;TZID=America/Denver:20211023T180000
DTEND;TZID=America/Denver:20211023T203000
DTSTAMP:20260419T164932
CREATED:20250531T065218Z
LAST-MODIFIED:20250531T065218Z
UID:10000017-1635012000-1635021000@redstoneaudio.com
SUMMARY:Northside Courthouse Square
DESCRIPTION:Stanly Dan will perform\, weather permitting\, at a block party sponsored by the City of Huntsville and the Northside Square business owners. The street will be closed to traffic and outside seating will be furnished by BeeZr and adjacent restaurants
URL:https://redstoneaudio.com/event/northside-courthouse-square/
LOCATION:Northside Square\, Northside Square\, Huntsville\, AL\, 35801\, United States
CATEGORIES:Stanley Dan
END:VEVENT
END:VCALENDAR